View In:
ArcGIS JavaScript
ArcGIS Online Map Viewer
ArcGIS Earth
ArcGIS Pro
Service Description:
Map Name: Wisconsin
Legend
All Layers and Tables
Layers:
Description:
Service Item Id: 2a23a8060d674eb683c9d43779c51275
Copyright Text:
Spatial Reference:
103187
(6879)
LatestVCSWkid(0)
Single Fused Map Cache: true
Tile Info:
- Height: 256
- Width: 256
- DPI: 96
-
Levels of Detail: 24
-
Level ID: 0
[ Start Tile, End Tile ]
- Resolution: 284859.52933872567
- Scale: 1.0766344415951836E9
-
Level ID: 1
[ Start Tile, End Tile ]
- Resolution: 142429.76466936283
- Scale: 5.383172207975918E8
-
Level ID: 2
[ Start Tile, End Tile ]
- Resolution: 71214.88233468142
- Scale: 2.691586103987959E8
-
Level ID: 3
[ Start Tile, End Tile ]
- Resolution: 35607.44116734071
- Scale: 1.3457930519939795E8
-
Level ID: 4
[ Start Tile, End Tile ]
- Resolution: 17803.720583670354
- Scale: 6.728965259969898E7
-
Level ID: 5
[ Start Tile, End Tile ]
- Resolution: 8901.860291835177
- Scale: 3.364482629984949E7
-
Level ID: 6
[ Start Tile, End Tile ]
- Resolution: 4450.930145917589
- Scale: 1.6822413149924744E7
-
Level ID: 7
[ Start Tile, End Tile ]
- Resolution: 2225.4650729587943
- Scale: 8411206.574962372
-
Level ID: 8
[ Start Tile, End Tile ]
- Resolution: 1112.7325364793971
- Scale: 4205603.287481186
-
Level ID: 9
[ Start Tile, End Tile ]
- Resolution: 556.3662682396986
- Scale: 2102801.643740593
-
Level ID: 10
[ Start Tile, End Tile ]
- Resolution: 278.1831341198493
- Scale: 1051400.8218702965
-
Level ID: 11
[ Start Tile, End Tile ]
- Resolution: 139.09156705992464
- Scale: 525700.4109351482
-
Level ID: 12
[ Start Tile, End Tile ]
- Resolution: 69.54578352996232
- Scale: 262850.2054675741
-
Level ID: 13
[ Start Tile, End Tile ]
- Resolution: 34.77289176498116
- Scale: 131425.10273378706
-
Level ID: 14
[ Start Tile, End Tile ]
- Resolution: 17.38644588249058
- Scale: 65712.55136689353
-
Level ID: 15
[ Start Tile, End Tile ]
- Resolution: 8.69322294124529
- Scale: 32856.275683446765
-
Level ID: 16
[ Start Tile, End Tile ]
- Resolution: 4.346611470622645
- Scale: 16428.137841723383
-
Level ID: 17
[ Start Tile, End Tile ]
- Resolution: 2.1733057353113225
- Scale: 8214.068920861691
-
Level ID: 18
[ Start Tile, End Tile ]
- Resolution: 1.0866528676556613
- Scale: 4107.034460430846
-
Level ID: 19
[ Start Tile, End Tile ]
- Resolution: 0.5433264338278306
- Scale: 2053.517230215423
-
Level ID: 20
[ Start Tile, End Tile ]
- Resolution: 0.2716632169139153
- Scale: 1026.7586151077114
-
Level ID: 21
[ Start Tile, End Tile ]
- Resolution: 0.13583160845695766
- Scale: 513.3793075538557
-
Level ID: 22
[ Start Tile, End Tile ]
- Resolution: 0.06791580422847883
- Scale: 256.68965377692786
-
Level ID: 23
[ Start Tile, End Tile ]
- Resolution: 0.033957902114239415
- Scale: 128.34482688846393
- Format: Mixed
- Compression Quality: 75.0
- Origin: X: -3.5862019755356885E7
Y: 3.573563485900666E7
- Spatial Reference: 103187
(6879)
LatestVCSWkid(0)
Storage Info:
- Storage Format: esriMapCacheStorageModeCompactV2
- Packet Size: 128
Initial Extent:
XMin: 223130.92088621052
YMin: -175106.86692296874
XMax: 1002066.1721112189
YMax: 391754.4049486581
Spatial Reference: 103187
(6879)
LatestVCSWkid(0)
Full Extent:
XMin: 351586.1937115575
YMin: -164091.14789657947
XMax: 859312.7023373416
YMax: 372872.01660838164
Spatial Reference: 103187
(6879)
LatestVCSWkid(0)
Units: esriMeters
Supported Image Format Types: PNG32,PNG24,PNG,JPG,DIB,TIFF,EMF,PS,PDF,GIF,SVG,SVGZ,BMP
Document Info:
Title: Wisconsin
Author:
Comments:
Subject:
Category:
Keywords:
AntialiasingMode: None
TextAntialiasingMode: Force
Supports Dynamic Layers: false
MaxRecordCount: 1000
MaxImageHeight: 4096
MaxImageWidth: 4096
Supported Query Formats: JSON, geoJSON, PBF
Supports Query Data Elements: true
Min Scale: 4205603.287481186
Max Scale: 131425.10273378706
Supports Datum Transformation: true
Child Resources:
Info
Supported Operations:
QueryLegends
Return Updates