View In:
ArcGIS JavaScript
ArcGIS Online Map Viewer
ArcGIS Earth
ArcGIS Pro
Service Description:
Map Name: Map
Legend
All Layers and Tables
Layers:
Description: We initially analyzed relationships between refugia datasets (n = 8, all listed below) through a principal components analysis where each component helps define a refugia class. As with principal components, datasets were assigned to a class based on the sign and size of the eigenvector. However, to avoid a tradeoff in refugia identification within a single class, all datasets within the class were required to load together and in the same direction on a principal component. In addition to presenting three separate classes, we weighted datasets based on their principal component loadings and combined them in a single dataset so that no one refugia class has a greater weight in identifying climate refugia locations. All datasets were normalized to a scale of 0 to 1 prior to being combined. We analyzed locations in the 80th percentile (i.e., the top 20% of values) of the distribution of values for the combined data and for each refugia class separately. The combined data are represented here in quantiles (a value of 1 indicates the bottom 20%, a value of 5 indicates the top 20%).Refugia datasets:Current Climate Diversity: Based on 11 bioclimatic variables using climate data for a 30-year climate normal period (1981-2010) (Carroll et al. 2017)Ecotypic Diversity: Derived from edaphic, climatic, and landcover data (Carroll et al. 2017)Land Facet Diversity: Incorporated elevation, latitude-adjusted elevation, topographic position index, slope, modified heat load index, and soil (Carroll et al. 2017)Landscape Diversity: Described the diversity of microhabitats and climatic gradients. Microclimates were measured by quantifying elevation range, the variety of small-scale landforms, and the density and configuration of wetlands in a 100-acre neighborhood (The Nature Conservancy 2020)Bird Macrorefugia: Focused on regions where the current and projected future species ranges overlap. Input based on current species niches for 268 songbird species; climate velocity based on 4 representative GCMs, RCP 4.5, 2080s (Stralberg et al. 2018)Climatic Dissimilarity: Described how different the future climate at a location will be from its current climate. Measured in terms of multivariate climate characteristics, via a principal components analysis (PCA) of 11 biologically-relevant temperature and precipitation variables, RCP 4.5, 2080s (Belote et al. 2018)Climate Velocity: Velocity was calculated by dividing the rate of climate change by the rate of spatial climate variability to focus on regions where climatic conditions move more slowly across the landscape. Input based on A2 emissions scenarios implemented by seven GCMs of the CMIP3 multimodel dataset, RCP 4.5, 2080s (AdaptWest Project 2015)Tree Macrorefugia: Focused on regions where the current and projected future species ranges overlapped. Input based on current species niches for 324 tree species; climate velocity based on 4 representative GCMs, RCP 4.5, 2080s (Stralberg et al. 2018)Sources:AdaptWest Project. (2015). Gridded climatic velocity data for North America at 1km resolution. https://adaptwest.databasin.org/pages/adaptwest-velocitywna/ Belote, R. T., Carroll, C., Martinuzzi, S., Michalak, J., Williams, J. W., Williamson, M. A., & Aplet, G. H. (2018). Assessing agreement among alternative climate change projections to inform conservation recommendations in the contiguous United States. Scientific Reports, 8(1), 9441. https://doi.org/10.1038/s41598-018-27721-6 Carroll, C., Roberts, D.R., Michalak, J.L. et al. (2017). Scale-dependent complementarity of climatic velocity and environmental diversity for identifying priority areas for conservation under climate change. Global Change Biology Early View. https://doi.org/10.1111/gcb.13679 Nature Conservancy, The. (2020). Resilient Land Mapping tool. https://maps.tnc.org/resilientland/ Stralberg, D., Carroll, C., Pedlar, J. H., Wilsey, C. B., McKenney, D. W., & Nielsen, S. E. (2018). Macrorefugia for North American trees and songbirds: Climatic limiting factors and multi-scale topographic influences. Global Ecology and Biogeography, 27(6), 690–703. https://doi.org/10.1111/geb.12731
Service Item Id: 2871ece7b4c5446baf2a46c02ca8bb7b
Copyright Text: CC-BY Defenders of Wildlife 2021
Spatial Reference:
102100
(3857)
Single Fused Map Cache: true
Tile Info:
- Height: 256.0
- Width: 256.0
- DPI: 96.0
-
Levels of Detail: 24
-
Level ID: 0
[ Start Tile, End Tile ]
- Resolution: 156543.03392799999
- Scale: 591657527.591555
-
Level ID: 1
[ Start Tile, End Tile ]
- Resolution: 78271.5169639998931
- Scale: 295828763.795777023
-
Level ID: 2
[ Start Tile, End Tile ]
- Resolution: 39135.7584820000993
- Scale: 147914381.897888988
-
Level ID: 3
[ Start Tile, End Tile ]
- Resolution: 19567.8792409999005
- Scale: 73957190.9489440024
-
Level ID: 4
[ Start Tile, End Tile ]
- Resolution: 9783.93962049995935
- Scale: 36978595.4744720012
-
Level ID: 5
[ Start Tile, End Tile ]
- Resolution: 4891.96981024997967
- Scale: 18489297.7372360006
-
Level ID: 6
[ Start Tile, End Tile ]
- Resolution: 2445.98490512498984
- Scale: 9244648.8686180003
-
Level ID: 7
[ Start Tile, End Tile ]
- Resolution: 1222.99245256248992
- Scale: 4622324.43430900015
-
Level ID: 8
[ Start Tile, End Tile ]
- Resolution: 611.496226281380018
- Scale: 2311162.21715500019
-
Level ID: 9
[ Start Tile, End Tile ]
- Resolution: 305.748113140558019
- Scale: 1155581.108577
-
Level ID: 10
[ Start Tile, End Tile ]
- Resolution: 152.874056570411
- Scale: 577790.554288999992
-
Level ID: 11
[ Start Tile, End Tile ]
- Resolution: 76.437028285073197
- Scale: 288895.277143999992
-
Level ID: 13
[ Start Tile, End Tile ]
- Resolution: 19.109257071268299
- Scale: 72223.8192859999981
-
Level ID: 14
[ Start Tile, End Tile ]
- Resolution: 9.5546285356341496
- Scale: 36111.9096429999991
-
Level ID: 16
[ Start Tile, End Tile ]
- Resolution: 2.38865713397468
- Scale: 9027.97741099999985
-
Level ID: 17
[ Start Tile, End Tile ]
- Resolution: 1.1943285668550501
- Scale: 4513.98870499999975
-
Level ID: 19
[ Start Tile, End Tile ]
- Resolution: 0.29858214164761698
- Scale: 1128.49717600000008
-
Level ID: 20
[ Start Tile, End Tile ]
- Resolution: 0.14929107082380833
- Scale: 564.248588000000041
-
Level ID: 21
[ Start Tile, End Tile ]
- Resolution: 0.074645535411904163
- Scale: 282.12429400000002
-
Level ID: 22
[ Start Tile, End Tile ]
- Resolution: 0.037322767705952081
- Scale: 141.06214700000001
-
Level ID: 23
[ Start Tile, End Tile ]
- Resolution: 0.018661383852976041
- Scale: 70.531073500000005
- Format: Mixed
- Compression Quality: 75.0
- Origin: X: -2.0037508342787E7
Y: 2.0037508342787E7
- Spatial Reference: 102100
(3857)
Storage Info:
- Storage Format: esriMapCacheStorageModeCompactV2
- Packet Size: 128
Initial Extent:
XMin: -1.5487211313240627E7
YMin: 1714097.7350154445
XMax: -6353911.313240627
YMax: 8181931.981590787
Spatial Reference: 102100
Full Extent:
XMin: -1.816121443573639E7
YMin: 1171549.825948181
XMax: -3629789.965606387
YMax: 8917935.39565694
Spatial Reference: 102100
Units: esriMeters
Supported Image Format Types: PNG32,PNG24,PNG,JPG,DIB,TIFF,EMF,PS,PDF,GIF,SVG,SVGZ,BMP
Document Info:
Title: C:\Users\mwissner.PEW\AppData\Local\Temp\ArcGISProTemp11200\22d56eef-e201-483c-bcdb-39c791eed4e7\Untitled.aprx
Author:
Comments:
Subject:
Category:
Keywords:
AntialiasingMode: None
TextAntialiasingMode: Force
Supports Dynamic Layers: false
MaxRecordCount: 1000
MaxSelectionCount: 0
MaxImageHeight: 4096
MaxImageWidth: 4096
Supported Query Formats: JSON, geoJSON, PBF
Supports Query Data Elements: true
Min Scale: 73957190.948944
Max Scale: 2311162.217155
Min LOD: 3
Max LOD: 8
Supports Datum Transformation: true
Child Resources:
Info
Supported Operations:
QueryLegends
Return Updates