View In:
ArcGIS JavaScript
ArcGIS Online Map Viewer
ArcGIS Earth
ArcGIS Pro
Service Description:
Map Name: Map
Legend
All Layers and Tables
Layers:
Description:
Service Item Id: b6c349d5bb3b47858cfa4d71da5ff86b
Copyright Text:
Spatial Reference:
102008
(102008)
Single Fused Map Cache: true
Tile Info:
- Height: 256.0
- Width: 256.0
- DPI: 96.0
-
Levels of Detail: 19
-
Level ID: 0
[ Start Tile, End Tile ]
- Resolution: 130374.429253231661
- Scale: 492753748.358670771
-
Level ID: 1
[ Start Tile, End Tile ]
- Resolution: 65187.2146266158306
- Scale: 246376874.179335386
-
Level ID: 2
[ Start Tile, End Tile ]
- Resolution: 32593.6073133079153
- Scale: 123188437.089667693
-
Level ID: 3
[ Start Tile, End Tile ]
- Resolution: 16296.8036566539577
- Scale: 61594218.5448338464
-
Level ID: 4
[ Start Tile, End Tile ]
- Resolution: 8148.40182832697883
- Scale: 30797109.2724169232
-
Level ID: 5
[ Start Tile, End Tile ]
- Resolution: 4074.20091416348941
- Scale: 15398554.6362084616
-
Level ID: 6
[ Start Tile, End Tile ]
- Resolution: 2037.10045708174471
- Scale: 7699277.3181042308
-
Level ID: 7
[ Start Tile, End Tile ]
- Resolution: 1018.55022854087235
- Scale: 3849638.6590521154
-
Level ID: 8
[ Start Tile, End Tile ]
- Resolution: 509.275114270436177
- Scale: 1924819.3295260577
-
Level ID: 9
[ Start Tile, End Tile ]
- Resolution: 254.637557135218088
- Scale: 962409.66476302885
-
Level ID: 10
[ Start Tile, End Tile ]
- Resolution: 127.318778567609044
- Scale: 481204.832381514425
-
Level ID: 11
[ Start Tile, End Tile ]
- Resolution: 63.6593892838045221
- Scale: 240602.416190757212
-
Level ID: 12
[ Start Tile, End Tile ]
- Resolution: 31.8296946419022611
- Scale: 120301.208095378606
-
Level ID: 13
[ Start Tile, End Tile ]
- Resolution: 15.9148473209511305
- Scale: 60150.6040476893031
-
Level ID: 14
[ Start Tile, End Tile ]
- Resolution: 7.9574236604755653
- Scale: 30075.3020238446516
-
Level ID: 15
[ Start Tile, End Tile ]
- Resolution: 3.9787118302377826
- Scale: 15037.6510119223258
-
Level ID: 16
[ Start Tile, End Tile ]
- Resolution: 1.9893559151188913
- Scale: 7518.82550596116289
-
Level ID: 17
[ Start Tile, End Tile ]
- Resolution: 0.99467795755944566
- Scale: 3759.41275298058144
-
Level ID: 18
[ Start Tile, End Tile ]
- Resolution: 0.49733897877972283
- Scale: 1879.70637649029072
- Format: Mixed
- Compression Quality: 75.0
- Origin: X: -1.6687926944413653E7
Y: 1.865155023815797E7
- Spatial Reference: 102008
(102008)
Storage Info:
- Storage Format: esriMapCacheStorageModeCompactV2
- Packet Size: 128
Initial Extent:
XMin: 975405.4843646812
YMin: -1004754.6740964564
XMax: 1876659.5530808812
YMax: -368797.81625534885
Spatial Reference: 102008
(102008)
Full Extent:
XMin: 1005322.9960730907
YMin: -1621066.181129057
XMax: 2822918.805351549
YMax: 938980.231226149
Spatial Reference: 102008
(102008)
Units: esriMeters
Supported Image Format Types: PNG32,PNG24,PNG,JPG,DIB,TIFF,EMF,PS,PDF,GIF,SVG,SVGZ,BMP
Document Info:
Title: C:\Users\mwissner\AppData\Local\Temp\ArcGISProTemp15504\Untitled\Untitled.aprx
Author:
Comments:
Subject:
Category:
Keywords:
AntialiasingMode: None
TextAntialiasingMode: Force
Supports Dynamic Layers: false
MaxRecordCount: 1000
MaxSelectionCount: 0
MaxImageHeight: 4096
MaxImageWidth: 4096
Supported Query Formats: JSON, geoJSON, PBF
Supports Query Data Elements: true
Min Scale: 15398554.6362084616
Max Scale: 481204.832381514425
Min LOD: 5
Max LOD: 10
Supports Datum Transformation: true
Child Resources:
Info
Supported Operations:
QueryLegends
Return Updates