{
 "documentInfo": {
  "Category": "",
  "Keywords": "",
  "Version": "3.1.0",
  "Comments": "",
  "AntialiasingMode": "Fast",
  "Title": "Map",
  "Author": "",
  "TextAntialiasingMode": "Force",
  "Subject": ""
 },
 "maxImageWidth": 4096,
 "maxRecordCount": 1000,
 "tileInfo": {
  "lods": [
   {
    "level": 0,
    "scale": 295828763.795777261,
    "resolution": 78271.5169639999949
   },
   {
    "level": 1,
    "scale": 147914381.897888422,
    "resolution": 39135.7584819999465
   },
   {
    "level": 2,
    "scale": 73957190.948944509,
    "resolution": 19567.87924100005
   },
   {
    "level": 3,
    "scale": 36978595.4744719714,
    "resolution": 9783.93962049995025
   },
   {
    "level": 4,
    "scale": 18489297.7372360006,
    "resolution": 4891.96981024997967
   },
   {
    "level": 5,
    "scale": 9244648.8686180003,
    "resolution": 2445.98490512498984
   },
   {
    "level": 6,
    "scale": 4622324.43430900015,
    "resolution": 1222.99245256249492
   },
   {
    "level": 7,
    "scale": 2311162.21715449076,
    "resolution": 611.496226281244958
   },
   {
    "level": 8,
    "scale": 1155581.10857750056,
    "resolution": 305.748113140690009
   },
   {
    "level": 9,
    "scale": 577790.55428850092,
    "resolution": 152.874056570279009
   },
   {
    "level": 10,
    "scale": 288895.27714449988,
    "resolution": 76.4370282852055
   },
   {
    "level": 11,
    "scale": 144447.638571999909,
    "resolution": 38.2185141425365984
   },
   {
    "level": 12,
    "scale": 72223.8192859999544,
    "resolution": 19.1092570712682992
   },
   {
    "level": 13,
    "scale": 36111.9096429999772,
    "resolution": 9.5546285356341496
   },
   {
    "level": 14,
    "scale": 18055.9548214999886,
    "resolution": 4.7773142678170748
   },
   {
    "level": 15,
    "scale": 9027.97741099999985,
    "resolution": 2.3886571339746849
   },
   {
    "level": 16,
    "scale": 4513.98870549999083,
    "resolution": 1.19432856698734
   },
   {
    "level": 17,
    "scale": 2256.99435249999942,
    "resolution": 0.59716428342752503
   },
   {
    "level": 18,
    "scale": 1128.4971764999998,
    "resolution": 0.29858214177990849
   },
   {
    "level": 19,
    "scale": 564.248588000000609,
    "resolution": 0.14929107082380849
   },
   {
    "level": 20,
    "scale": 282.12429400000002,
    "resolution": 0.074645535411904163
   },
   {
    "level": 21,
    "scale": 141.06214700000001,
    "resolution": 0.037322767705952081
   },
   {
    "level": 22,
    "scale": 70.5310735000000051,
    "resolution": 0.018661383852976041
   }
  ],
  "origin": {
   "x": -20037508.3427870013,
   "y": 20037508.3427870013
  },
  "format": "Mixed",
  "compressionQuality": 75,
  "rows": 512,
  "dpi": 96,
  "spatialReference": {
   "falseM": -100000,
   "xyTolerance": 0.001,
   "mUnits": 10000,
   "zUnits": 10000,
   "latestWkid": 3857,
   "zTolerance": 0.001,
   "wkid": 102100,
   "xyUnits": 10000,
   "mTolerance": 0.001,
   "falseX": -20037700,
   "falseY": -30241100,
   "falseZ": -100000
  },
  "cols": 512
 },
 "description": "",
 "datesInUnknownTimezone": false,
 "units": "esriMeters",
 "supportedImageFormatTypes": "PNG32,PNG24,PNG,JPG,DIB,TIFF,EMF,PS,PDF,GIF,SVG,SVGZ,BMP",
 "supportsClipping": true,
 "maxImageHeight": 4096,
 "exportTilesAllowed": false,
 "tables": [],
 "supportsDatumTransformation": true,
 "cimVersion": "3.1.0",
 "supportsQueryDataElements": true,
 "layers": [
  {
   "subLayerIds": null,
   "maxScale": 0,
   "name": "VulnerableTidalWetlands.tif",
   "defaultVisibility": true,
   "id": 2,
   "minScale": 0,
   "supportsDynamicLegends": true,
   "type": "Raster Layer",
   "parentLayerId": -1
  },
  {
   "subLayerIds": null,
   "maxScale": 0,
   "name": "PeatlandLossfrom2001to2019.tif",
   "defaultVisibility": true,
   "id": 3,
   "minScale": 0,
   "supportsDynamicLegends": true,
   "type": "Raster Layer",
   "parentLayerId": -1
  },
  {
   "subLayerIds": null,
   "maxScale": 0,
   "name": "PeatlandLossfrom1979to2019.tif",
   "defaultVisibility": true,
   "id": 4,
   "minScale": 0,
   "supportsDynamicLegends": true,
   "type": "Raster Layer",
   "parentLayerId": -1
  }
 ],
 "mapName": "Map",
 "archivingInfo": {
  "supportsHistoricMoment": false
 },
 "minScale": 36978595.4744719714,
 "spatialReference": {
  "falseM": -100000,
  "xyTolerance": 0.001,
  "mUnits": 10000,
  "zUnits": 10000,
  "latestWkid": 3857,
  "zTolerance": 0.001,
  "wkid": 102100,
  "xyUnits": 10000,
  "mTolerance": 0.001,
  "falseX": -20037700,
  "falseY": -30241100,
  "falseZ": -100000
 },
 "fullExtent": {
  "ymin": 2607918.72513645142,
  "xmin": -14246360.8365639448,
  "ymax": 6737031.21436880808,
  "xmax": -7264050.45015799906,
  "spatialReference": {
   "cs": "pcs",
   "wkid": 102100
  }
 },
 "supportedExtensions": "",
 "serviceItemId": "335e593a5a0c468291f7cd9fdf3a6c03",
 "capabilities": "TilesOnly,Tilemap",
 "supportsDynamicLayers": false,
 "maxScale": 577790.55428850092,
 "singleFusedMapCache": true,
 "currentVersion": 11.1,
 "storageInfo": {
  "storageFormat": "esriMapCacheStorageModeCompactV2",
  "packetSize": 128
 },
 "mapUnits": {
  "uwkid": 9001
 },
 "referenceScale": 0,
 "floorAwareMapProperties": {
  "defaultFloorFilterSettings": {
   "isEnabled": false
  }
 },
 "maxExportTilesCount": 100000,
 "supportsSpatialFilter": true,
 "maxLOD": 9,
 "supportedQueryFormats": "JSON, geoJSON, PBF",
 "datumTransformations": [
  {
   "geoTransforms": [
    {
     "latestWkid": 108190,
     "transformForward": false,
     "wkid": 108190,
     "name": "WGS_1984_(ITRF00)_To_NAD_1983"
    }
   ]
  },
  {
   "geoTransforms": [
    {
     "latestWkid": 108190,
     "transformForward": true,
     "wkid": 108190,
     "name": "WGS_1984_(ITRF00)_To_NAD_1983"
    }
   ]
  }
 ],
 "minLOD": 3,
 "initialExtent": {
  "ymin": 1232732.68831391772,
  "xmin": -14702417.945722891,
  "ymax": 7774885.47151704505,
  "xmax": -6752460.13322288729,
  "spatialReference": {
   "cs": "pcs",
   "wkid": 102100
  }
 },
 "serviceDescription": "",
 "copyrightText": "",
 "supportsTimeRelation": true
}
