{ "documentInfo": { "Category": "", "Keywords": "", "Version": "2.9.0", "Comments": "", "AntialiasingMode": "None", "Title": "C:\\Users\\mwissner.PEW\\AppData\\Local\\Temp\\ArcGISProTemp11200\\22d56eef-e201-483c-bcdb-39c791eed4e7\\Untitled.aprx", "Author": "", "TextAntialiasingMode": "Force", "Subject": "" }, "maxImageWidth": 4096, "maxRecordCount": 1000, "tileInfo": { "lods": [ { "level": 0, "scale": 591657527.591555, "resolution": 156543.03392799999 }, { "level": 1, "scale": 295828763.795777023, "resolution": 78271.5169639998931 }, { "level": 2, "scale": 147914381.897888988, "resolution": 39135.7584820000993 }, { "level": 3, "scale": 73957190.9489440024, "resolution": 19567.8792409999005 }, { "level": 4, "scale": 36978595.4744720012, "resolution": 9783.93962049995935 }, { "level": 5, "scale": 18489297.7372360006, "resolution": 4891.96981024997967 }, { "level": 6, "scale": 9244648.8686180003, "resolution": 2445.98490512498984 }, { "level": 7, "scale": 4622324.43430900015, "resolution": 1222.99245256248992 }, { "level": 8, "scale": 2311162.21715500019, "resolution": 611.496226281380018 }, { "level": 9, "scale": 1155581.108577, "resolution": 305.748113140558019 }, { "level": 10, "scale": 577790.554288999992, "resolution": 152.874056570411 }, { "level": 11, "scale": 288895.277143999992, "resolution": 76.437028285073197 }, { "level": 12, "scale": 144447.638572, "resolution": 38.218514142536598 }, { "level": 13, "scale": 72223.8192859999981, "resolution": 19.109257071268299 }, { "level": 14, "scale": 36111.9096429999991, "resolution": 9.5546285356341496 }, { "level": 15, "scale": 18055.954822, "resolution": 4.7773142679493699 }, { "level": 16, "scale": 9027.97741099999985, "resolution": 2.38865713397468 }, { "level": 17, "scale": 4513.98870499999975, "resolution": 1.1943285668550501 }, { "level": 18, "scale": 2256.994353, "resolution": 0.59716428355981699 }, { "level": 19, "scale": 1128.49717600000008, "resolution": 0.29858214164761698 }, { "level": 20, "scale": 564.248588000000041, "resolution": 0.14929107082380833 }, { "level": 21, "scale": 282.12429400000002, "resolution": 0.074645535411904163 }, { "level": 22, "scale": 141.06214700000001, "resolution": 0.037322767705952081 }, { "level": 23, "scale": 70.531073500000005, "resolution": 0.018661383852976041 } ], "origin": { "x": -20037508.3427870013, "y": 20037508.3427870013 }, "format": "Mixed", "compressionQuality": 75, "rows": 256, "dpi": 96, "spatialReference": { "falseM": -100000, "xyTolerance": 0.001, "mUnits": 10000, "zUnits": 10000, "latestWkid": 3857, "zTolerance": 0.001, "wkid": 102100, "xyUnits": 148923141.928385377, "mTolerance": 0.001, "falseX": -20037700, "falseY": -30241100, "falseZ": -100000 }, "cols": 256 }, "description": "
We initially analyzed relationships between refugia datasets (n = 8, all listed below) through a principal components analysis where each component helps define a refugia class. As with principal components, datasets were assigned to a class based on the sign and size of the eigenvector. However, to avoid a tradeoff in refugia identification within a single class, all datasets within the class were required to load together and in the same direction on a principal component. In addition to presenting three separate classes, we weighted datasets based on their principal component loadings and combined them in a single dataset so that no one refugia class has a greater weight in identifying climate refugia locations. All datasets were normalized to a scale of 0 to 1 prior to being combined. We extracted refugia values for each ecoregion separately (EPA level II; EPA 2006), classifying the locations that fell into the top 20% of each distribution as areas of interest. This dataset represents the combination of the top 20% of each ecoregion's distribution (a value of 0 indicates the bottom 80%, a value of 1 indicates the top 20%), which can be used to map ecoregion-specific refugia, ensuring equal representation of all ecoregions relative to size. <\/SPAN><\/P> Refugia datasets:<\/SPAN><\/P> Current Climate Diversity:<\/SPAN> Based on 11 bioclimatic variables using climate data for a 30-year climate normal period (1981-2010) (Carroll et al. 2017)<\/SPAN><\/P> Ecotypic Diversity:<\/SPAN> Derived from edaphic, climatic, and landcover data (Carroll et al. 2017)<\/SPAN><\/P> Land Facet Diversity:<\/SPAN> Incorporated elevation, latitude-adjusted elevation, topographic position index, slope, modified heat load index, and soil (Carroll et al. 2017)<\/SPAN><\/P> Landscape Diversity:<\/SPAN> Described the diversity of microhabitats and climatic gradients. Microclimates were measured by quantifying elevation range, the variety of small-scale landforms, and the density and configuration of wetlands in a 100-acre neighborhood (The Nature Conservancy 2020)<\/SPAN><\/P> Bird Macrorefugia:<\/SPAN> Focused on regions where the current and projected future species ranges overlap. Input based on current species niches for 268 songbird species; climate velocity based on 4 representative GCMs, RCP 4.5, 2080s (Stralberg et al. 2018)<\/SPAN><\/P> Climatic Dissimilarity:<\/SPAN> Described how different the future climate at a location will be from its current climate. Measured in terms of multivariate climate characteristics, via a principal components analysis (PCA) of 11 biologically-relevant temperature and precipitation variables, RCP 4.5, 2080s (Belote et al. 2018)<\/SPAN><\/P> Climate Velocity:<\/SPAN> Velocity was calculated by dividing the rate of climate change by the rate of spatial climate variability to focus on regions where climatic conditions move more slowly across the landscape. Input based on A2 emissions scenarios implemented by seven GCMs of the CMIP3 multimodel dataset, RCP 4.5, 2080s (AdaptWest Project 2015)<\/SPAN><\/P> Tree Macrorefugia:<\/SPAN> Focused on regions where the current and projected future species ranges overlapped. Input based on current species niches for 324 tree species; climate velocity based on 4 representative GCMs, RCP 4.5, 2080s (Stralberg et al. 2018)<\/SPAN><\/P> Sources:<\/SPAN><\/P> AdaptWest Project. (2015). Gridded climatic velocity data for North America at 1km resolution. https://adaptwest.databasin.org/pages/adaptwest-velocitywna/ <\/SPAN><\/P> Belote, R. T., Carroll, C., Martinuzzi, S., Michalak, J., Williams, J. W., Williamson, M. A., & Aplet, G. H. (2018). Assessing agreement among alternative climate change projections to inform conservation recommendations in the contiguous United States<\/SPAN>. Scientific Reports, 8<\/SPAN>(1), 9441. https://doi.org/10.1038/s41598-018-27721-6 <\/SPAN><\/P> Carroll, C., Roberts, D.R., Michalak, J.L. et al. (2017). Scale-dependent complementarity of climatic velocity and environmental diversity for identifying priority areas for conservation under climate change. Global Change Biology Early View. https://doi.org/10.1111/gcb.13679 <\/SPAN><\/P> Environmental Protection Agency (EPA). (2006). Ecoregions of North America. https://www.epa.gov/eco-research/ecoregions-north-america <\/SPAN><\/P> Nature Conservancy, The. (2020). Resilient Land Mapping tool. https://maps.tnc.org/resilientland/ <\/SPAN><\/P> Stralberg, D., Carroll, C., Pedlar, J. H., Wilsey, C. B., McKenney, D. W., & Nielsen, S. E. (2018). Macrorefugia for North American trees and songbirds: Climatic limiting factors and multi-scale topographic influences. <\/SPAN>Global Ecology and Biogeography, 27<\/SPAN>(6), 690\u2013703. https://doi.org/10.1111/geb.12731 <\/SPAN><\/P> <\/P><\/DIV><\/DIV><\/DIV>",
"datesInUnknownTimezone": false,
"units": "esriMeters",
"supportedImageFormatTypes": "PNG32,PNG24,PNG,JPG,DIB,TIFF,EMF,PS,PDF,GIF,SVG,SVGZ,BMP",
"supportsClipping": true,
"maxImageHeight": 4096,
"exportTilesAllowed": false,
"tables": [],
"supportsDatumTransformation": true,
"cimVersion": "2.9.0",
"supportsQueryDataElements": true,
"layers": [{
"subLayerIds": null,
"maxScale": 0,
"name": "EcoregionRefugia",
"defaultVisibility": true,
"id": 0,
"minScale": 0,
"supportsDynamicLegends": true,
"type": "Raster Layer",
"parentLayerId": -1
}],
"mapName": "Map",
"archivingInfo": {"supportsHistoricMoment": false},
"minScale": 36978595.474472,
"spatialReference": {
"falseM": -100000,
"xyTolerance": 0.001,
"mUnits": 10000,
"zUnits": 10000,
"latestWkid": 3857,
"zTolerance": 0.001,
"wkid": 102100,
"xyUnits": 10000,
"mTolerance": 0.001,
"falseX": -20037700,
"falseY": -30241100,
"falseZ": -100000
},
"fullExtent": {
"ymin": 2640374.70554272784,
"xmin": -14285380.9880278036,
"ymax": 6650450.72991450038,
"xmax": -7252109.79503574222,
"spatialReference": {
"cs": "pcs",
"wkid": 102100
}
},
"supportedExtensions": "",
"serviceItemId": "7e9685c37ff04560bc1d149d9ad9a148",
"capabilities": "TilesOnly,Tilemap",
"supportsDynamicLayers": false,
"maxScale": 1155581.108577,
"singleFusedMapCache": true,
"currentVersion": 10.91,
"storageInfo": {
"storageFormat": "esriMapCacheStorageModeCompactV2",
"packetSize": 128
},
"referenceScale": 0,
"maxExportTilesCount": 100000,
"supportsSpatialFilter": true,
"maxLOD": 9,
"supportedQueryFormats": "JSON, geoJSON, PBF",
"datumTransformations": [
{"geoTransforms": [{
"latestWkid": 108190,
"transformForward": false,
"wkid": 108190,
"name": "WGS_1984_(ITRF00)_To_NAD_1983"
}]},
{"geoTransforms": [{
"latestWkid": 108190,
"transformForward": true,
"wkid": 108190,
"name": "WGS_1984_(ITRF00)_To_NAD_1983"
}]},
{"geoTransforms": [{
"latestWkid": 108190,
"transformForward": false,
"wkid": 108190,
"name": "WGS_1984_(ITRF00)_To_NAD_1983"
}]},
{"geoTransforms": [{
"latestWkid": 108190,
"transformForward": true,
"wkid": 108190,
"name": "WGS_1984_(ITRF00)_To_NAD_1983"
}]}
],
"minLOD": 4,
"initialExtent": {
"ymin": 1906039.46182798315,
"xmin": -14637044.547677407,
"ymax": 7384785.9736292446,
"xmax": -6900446.23538613878,
"spatialReference": {
"cs": "pcs",
"wkid": 102100
}
},
"serviceDescription": "",
"copyrightText": "CC-BY Defenders of Wildlife 2021",
"supportsTimeRelation": true
}